BEGIN:VCALENDAR
METHOD:PUBLISH
VERSION:2.0
CALSCALE:GREGORIAN
PRODID:-//NONSGML WPForms//NONSGML Sugar Calendar Feeds v3.10.0//EN
X-WR-CALNAME:Wedstrijdvissen Bongenaar (ond) Nieuwegein
X-WR-CALDESC:AUHV
X-WR-TIMEZONE:Europe/Amsterdam
BEGIN:VTIMEZONE
TZID:Europe/Amsterdam
BEGIN:DAYLIGHT
TZOFFSETFROM:+0100
TZOFFSETTO:+0200
DTSTART:20260329T010000
TZNAME:CEST
END:DAYLIGHT
END:VTIMEZONE
BEGIN:VTIMEZONE
TZID:Europe/Amsterdam
BEGIN:DAYLIGHT
TZOFFSETFROM:+0100
TZOFFSETTO:+0200
DTSTART:20260329T010000
TZNAME:CEST
END:DAYLIGHT
END:VTIMEZONE
BEGIN:VEVENT
SUMMARY:Wedstrijdvissen Bongenaar (ond) Nieuwegein
DESCRIPTION:
URL;VALUE=URI:https://auhv.nl/events/wedstrijdvissen-vecht-andre-v-duin-
 2-2-2-2-2-2-2/
UID:urn:uuid:ba22ddf7-17be-4dcd-be60-2159aa56b3cd
STATUS:CONFIRMED
ORGANIZER:
DTSTAMP:20260421T134706Z
DTSTART;TZID=Europe/Amsterdam:20260808T073000
DTEND;TZID=Europe/Amsterdam:20260808T134500
END:VEVENT
END:VCALENDAR